BEGIN:VCALENDAR
VERSION:2.0
PRODID:-//Ecstatic Dance London - ECPv6.15.20//NONSGML v1.0//EN
CALSCALE:GREGORIAN
METHOD:PUBLISH
X-WR-CALNAME:Ecstatic Dance London
X-ORIGINAL-URL:https://ecstaticdancelondon.com
X-WR-CALDESC:Events for Ecstatic Dance London
REFRESH-INTERVAL;VALUE=DURATION:PT1H
X-Robots-Tag:noindex
X-PUBLISHED-TTL:PT1H
BEGIN:VTIMEZONE
TZID:Europe/London
BEGIN:DAYLIGHT
TZOFFSETFROM:+0000
TZOFFSETTO:+0100
TZNAME:BST
DTSTART:20210328T010000
END:DAYLIGHT
BEGIN:STANDARD
TZOFFSETFROM:+0100
TZOFFSETTO:+0000
TZNAME:GMT
DTSTART:20211031T010000
END:STANDARD
BEGIN:DAYLIGHT
TZOFFSETFROM:+0000
TZOFFSETTO:+0100
TZNAME:BST
DTSTART:20220327T010000
END:DAYLIGHT
BEGIN:STANDARD
TZOFFSETFROM:+0100
TZOFFSETTO:+0000
TZNAME:GMT
DTSTART:20221030T010000
END:STANDARD
BEGIN:DAYLIGHT
TZOFFSETFROM:+0000
TZOFFSETTO:+0100
TZNAME:BST
DTSTART:20230326T010000
END:DAYLIGHT
BEGIN:STANDARD
TZOFFSETFROM:+0100
TZOFFSETTO:+0000
TZNAME:GMT
DTSTART:20231029T010000
END:STANDARD
END:VTIMEZONE
BEGIN:VEVENT
DTSTART;TZID=Europe/London:20220912T073000
DTEND;TZID=Europe/London:20220912T080000
DTSTAMP:20260420T034025
CREATED:20220909T122633Z
LAST-MODIFIED:20221012T214541Z
UID:1393-1662967800-1662969600@ecstaticdancelondon.com
SUMMARY:Creative Flow Dojo: WEEKDAY MORNING Meditations - Attuning Body and Mind for Wellbeing
DESCRIPTION:Daily Creative Flow Dojo™ meditations to tune your body and mind to the best of who you are! Experience an optimal state for \nSTART YOUR DAY WITH BEAUTIFUL GUIDED MEDITATIONS\nJoin us for these daily (Mon-Fri 7:30am-8am) Creative Flow Guided meditations for accessing optimal states of health\, wellbeing\, and creativity. We look forward to introducing these beautiful morning practices to you and if you’ve attended before\, welcome back!  \nIn these morning sessions\, Seth will guide you through different daily creative flow meditations to tune your body and mind to the best of who you are. A regular creative flow meditation practice is a proactive way to wire your nervous system for health\, wellbeing\, and creativity. \n\n\n\n\n\nBOOK HERE: https://www.eventbrite.co.uk/e/creative-flow-dojo-daily-meditations-attuning-body-mind-for-wellbeing-tickets-397844853667\n\nCreative Flow – The optimal body-mind state of consciousness where we feel and perform at our best.\nDojo – A dōjō is a space for immersive learning and practice. This term is traditionally used within the field of martial arts.\n\nMany of us know what it’s like to be in an optimal state of health and wellbeing\,  what we call a state of creative flow – but do we have to just wait for inspiration to strike… or is there a way that we can “hack the zone’?   \nIn the Creative Flow Dojo®\, we use a combination of tools to achieve a “creative flow state”\, for health & wellbeing\, creativity\, and optimal performance. Getting into “The Zone” To be generative\, we must first create the optimal conditions to get into the “creative flow state”.  \nBENEFITS OF DAILY CREATIVE FLOW PRACTICE:\n– Learn how to get into a creative flow state\, and with practice\, stay there. This is what the Creative Flow Dojo™ is about\, helping you to get into an optimal state for creativity\, performance\, health and wellbeing. \n– Learn how to develop a  creative flow state in which you can creatively engage with whatever you’re faced with. It could be a criticism\, it could be a challenge\, it could be a particular problem\, or it could be a creative performance! \n– Learn how to develop and maintain a peak performance state\, what we are calling a “creative flow state”. Athletes and creative performers might call it “the zone”\, or martial artists might use the term “chi flow”\, but whatever you call it\, it is a state that enables you to deal skilfully and creatively\, with whatever it is that you’re engaged with. \n\n\n\n\n\n\nPRACTICAL DETAILS:\nWHERE? Online via Zoom Zoom link will be in Eventbrite email confirmation in ‘Additional Information’ \nWHEN? Daily mornings 7:30am-8am Monday-Friday (UK\, London time\, GMT +1)  \nWHAT TO PREPARE? Loose comfortable clothing suitable for movement & relaxation\, and a reusable water bottle. Headphones recommended! Please arrive 5 minutes beforehand to check the technical setup. Thank you \nCONFIRMATION & ZOOM LINK: Full details and link will be in the Eventbrite email confirmation ‘Additional information’ section (please check your spam folder). \nIf you have any questions\, please send an email to Seth: youareyoubeyou@gmail.com \nIf you want to dive deeper\, Book a 1-to-1 session with Seth \nCOST: 4 LEVELS OF ATTENDANCE:\nLevel 1 – Cost £20: 1-week membership: 5 x Creative Flow meditation sessions (a different meditation each day) \nLevel 2 – Cost £55: 1-week membership *Plus* 1 Coaching session: 5 x Creative Flow meditations (a different meditation each day) + 1 x 90 minute 1-to-1 Creative Coaching session with Seth \nLevel 3 – Cost £45: 1 x 90 minute 1-to-1 Creativity Coaching session with Seth \nLevel 4 – Monthly membership – Cost £99: 1 x 90 minute 1-to-1 Creative Coaching session with Seth Plus 4 x weeks of online meditations Monday-Friday \n1:1 COACHING SESSION TIME? I will email you once you have booked to arrange a suitable time for your 1:1 session (90 min). \n\n\n\n\n\nABOUT THE FACILITATOR: SETH NEWMAN\nAs a coach\, Seth is dedicated to helping people calm\, empower and rejuvenate their busy minds and bodies to achieve the best versions of themselves. Seth brings a wealth of experience holding heart-centered spaces. \nIn addition to guiding people on their life journeys\, he enjoys helping clients design lifestyles of optimal health and balance with creative living practices. \nIf you are interested in booking a 1-to-1 coaching session with Seth or have any questions\, please send an email to: youareyoubeyou@gmail.com \n\n\n\n\n\n\n\nTags
URL:https://ecstaticdancelondon.com/event/creative-flow-dojo-daily-meditations-attuning-body-mind-for-wellbeing-2/2022-09-12/
LOCATION:Online\, Zoom link will be in Eventbrite email confirmation in 'Additional Information'\, London\, England\, United Kingdom
ATTACH;FMTTYPE=image/jpeg:https://ecstaticdancelondon.com/wp-content/uploads/2022/09/CREATIVE-FLOW-DOJO.jpg
END:VEVENT
END:VCALENDAR