BEGIN:VCALENDAR
VERSION:2.0
PRODID:-//Ecstatic Dance London - ECPv6.15.20//NONSGML v1.0//EN
CALSCALE:GREGORIAN
METHOD:PUBLISH
X-WR-CALNAME:Ecstatic Dance London
X-ORIGINAL-URL:https://ecstaticdancelondon.com
X-WR-CALDESC:Events for Ecstatic Dance London
REFRESH-INTERVAL;VALUE=DURATION:PT1H
X-Robots-Tag:noindex
X-PUBLISHED-TTL:PT1H
BEGIN:VTIMEZONE
TZID:Europe/London
BEGIN:DAYLIGHT
TZOFFSETFROM:+0000
TZOFFSETTO:+0100
TZNAME:BST
DTSTART:20210328T010000
END:DAYLIGHT
BEGIN:STANDARD
TZOFFSETFROM:+0100
TZOFFSETTO:+0000
TZNAME:GMT
DTSTART:20211031T010000
END:STANDARD
BEGIN:DAYLIGHT
TZOFFSETFROM:+0000
TZOFFSETTO:+0100
TZNAME:BST
DTSTART:20220327T010000
END:DAYLIGHT
BEGIN:STANDARD
TZOFFSETFROM:+0100
TZOFFSETTO:+0000
TZNAME:GMT
DTSTART:20221030T010000
END:STANDARD
BEGIN:DAYLIGHT
TZOFFSETFROM:+0000
TZOFFSETTO:+0100
TZNAME:BST
DTSTART:20230326T010000
END:DAYLIGHT
BEGIN:STANDARD
TZOFFSETFROM:+0100
TZOFFSETTO:+0000
TZNAME:GMT
DTSTART:20231029T010000
END:STANDARD
END:VTIMEZONE
BEGIN:VEVENT
DTSTART;TZID=Europe/London:20220918T123000
DTEND;TZID=Europe/London:20220918T150000
DTSTAMP:20260420T053409
CREATED:20220807T085112Z
LAST-MODIFIED:20220928T215740Z
UID:1312-1663504200-1663513200@ecstaticdancelondon.com
SUMMARY:Dance of Awareness - Sunday Movement Meditation Practice
DESCRIPTION:Dance of Awareness™ is an ecstatic dance and embodiment practice… a process for healing\, self-expression & creativity in a safe space. \n\n\nDANCE OF AWARENESS™\n\nDance Warmup\nOpening Circle\nThe Dance of Awareness Wave (more details about the phases below)\nClosing Circle & Group Sharing\nClass ends\n\nUPCOMING DATES:\n\n18 September\n2 October\n\nBOOK HERE: https://www.eventbrite.co.uk/e/embody-dance-of-awareness-sunday-movement-meditation-practice-tickets-397837180717 \n\n\n\n\nABOUT THE DANCE OF AWARENESS\nDance of Awareness™ is a new approach to working with movement\, dance\, and awareness. It is a dance and movement practice that aims to increase self-awareness and self-acceptance. And when practiced regularly\, can be a very powerful resource for our well-being – body\, heart\, and soul. Dance of Awareness™ is a joyful exploration of what it is to be in a body\, moving in response to inner awareness and outer connectedness. \n“This is a dance process for self-expression and personal discovery in a safely held space.” \nDance of Awareness™ has five main streams of influence: Neo-Reichian body-centred psychotherapy; Five Rhythms dance; Authentic Movement; Dance Movement Psychotherapy; and the experiential exploration of Awareness itself. \nROOTS IN DEVELOPMENTAL THEORY\n“How did you\, become you?” \nThe Dance of Awareness™ is similar in structure to the Five Rhythms wave developed by Roth (1999)\, but has been adapted to take account of psychodynamic theory and developmental psychology. The phases of the cycle follow themes of human development from pre-birth through to around five years. This is the time period associated with the growing sense of self which becomes embodied through early experience\, and which sets the patterns for adulthood. This gives the mover the opportunity to re-experience the formative years of early development\, explore old imprints\, and discover new patterns of moving and relating. \nThe Dance of Awareness™ works with 6 cycles: \nSensing\, Grounding\, Expressing\, Releasing\, Connecting and Completing following an energetic wave of charging and discharging over the course of a session. \nDance of Awareness™ is an open and allowing space where the dancer-mover can express and explore both 1) old adapted ways of moving and being and 2) new possibilities in moving\, being\, and relating. \nAs you journey through the cycles\, and with some direction from the facilitator\, explore the creative movement impulses which are ready to emerge. \nDance of Awareness will help you to explore both\, dancing out all that is ready to be released\, and dancing in more of your life-giving\, life-affirming creative potential! \n\n\n\n\n\nTHE 6 PHASES OF THE DANCE OF AWARENESS WAVE:\n\nSENSING – Sensing the body directly – an internal focus on the physical sensations of flesh\, muscle and bone\, and an external focus on the five senses;\nGROUNDING – Grounding our bodies in connection to the earth\, receiving support;\nEXPRESSING – Expressing the shapes\, patterns and movements that are ready to take form;\nRELEASING – Releasing the energy that is ready to move in the body;\nCONNECTING – Connecting deeper into ourselves – and outwards with others and the world;\nCOMPLETING – Completing the journey and returning to our true nature.\n\nThrough the 6 phases of the Dance of Awareness process\, you will be invited to move through the themes of human development from pre-birth up to around five years old. Because the phases of the cycle follow the themes of human development\, you are given the opportunity to re-experience your formative years of early development\, explore old imprints\, and discover new patterns of moving and relating by allowing the dance to emerge naturally. \nDance of Awareness also gives us the opportunity to be aware of the wonders of our own body\, our sacred home\, living it with kind-heartedness\, self-care and compassion. \nAWARENESS AS THE GROUND TO OUR BEING\nThe Dance of Awareness process is underpinned by an emphasis on awareness as the ground to our experience in the world. \nAs we move through the cycle\, from time to time\, I will invite you to ‘come back to awareness’\, this means experiencing whatever is emerging here and now\, and putting to one side beliefs\, thoughts and assumptions\, in the interests of giving ourselves permission to allow whatever is ready to come into awareness. What presents itself may be a breath pattern\, an image\, an emotion\, or a bodily sensation. The aim is simply to be present with whatever is happening and to fully experience what arises\, with an empathic witnessing. \n\n\n\n\n\nFACILITATOR\, VENUE\, PRICES:\nFacilitated by: Seth Newman \nAs a coach\, Seth is dedicated to helping people calm\, empower and rejuvenate their busy minds and bodies to achieve the best versions of themselves. Seth brings a wealth of experience holding heart-centered spaces. \nIn addition to guiding people on their life journeys\, he enjoys helping clients design lifestyles of optimal health and balance with creative living practices. \nSeth has been running various body-mind integration classes and workshops for many years. His inspiration comes from many sources including Humanistic & Body Psychotherapy\, the Human Potential Movement\, 5 Rhythms and Active meditations. \nAddress: Siobhan Davies Dance Studio (Roof Studio) \nTime: 12:30pm -3pm \nStrictly no latecomers! – Sorry\, please arrive on time! Unfortunately\, if you are more than 10 minutes late\, you will not be allowed entry\, (and there can be no refunds if you are more than 10 minutes late\, very sorry!) as we need to make it a calm & peaceful space for people who are already here. \nPayment: Please book via Eventbrite (very limited spaces\, advance booking is essential as we have limited capacity for these classes) \nPLEASE NOTE:\n1) Strictly no latecomers! – Sorry\, please arrive on time! Unfortunately\, if you are more than 10 minutes late\, you will not be allowed entry\, (and there can be no refunds if you are more than 10 minutes late\, very sorry!) as we need to make it a calm & peaceful space for people who are already here. \n2) No Refunds. Last-minute refunds are not available as we need to have enough time to fill the space left – at least 1 week’s notice. You are welcome to pass on your ticket to a friend\, colleague or family member however please let us know the name and email address of the person attending in your place for track & trace purposes. \n\n\n\n\nABOUT DANCE OF AWARENESS\nDance of Awareness™ (DoA) is a new approach to working with movement\, dance and awareness\, developed by Tim Brown and Clare Osbond. It has five main streams of influence: Neo-Reichian body-centred psychotherapy; Five Rhythms dance; Authentic Movement; Dance Movement Psychotherapy; and the experiential exploration of Awareness itself. DoA has been growing since 2003\, and is based on experience gained through over 1500 hours of DoA classes\, groups and workshops. \nFor information about Tim and Clares forthcoming groups and classes that are currently happening: https://www.embodiedtherapy.org.uk/
URL:https://ecstaticdancelondon.com/event/embody-dance-of-awareness-sunday-movement-meditation-practice/2022-09-18/
LOCATION:Siobhan Davies Studios (Roof Studio)\, 85 Saint George's Road\, London\, England\, SE1 6ER\, United Kingdom
ATTACH;FMTTYPE=image/jpeg:https://ecstaticdancelondon.com/wp-content/uploads/2022/08/Dance-of-Awareness-2160-×-1080px.jpg
END:VEVENT
END:VCALENDAR