BEGIN:VCALENDAR
VERSION:2.0
PRODID:-//Ecstatic Dance London - ECPv6.15.20//NONSGML v1.0//EN
CALSCALE:GREGORIAN
METHOD:PUBLISH
X-WR-CALNAME:Ecstatic Dance London
X-ORIGINAL-URL:https://ecstaticdancelondon.com
X-WR-CALDESC:Events for Ecstatic Dance London
REFRESH-INTERVAL;VALUE=DURATION:PT1H
X-Robots-Tag:noindex
X-PUBLISHED-TTL:PT1H
BEGIN:VTIMEZONE
TZID:Europe/London
BEGIN:DAYLIGHT
TZOFFSETFROM:+0000
TZOFFSETTO:+0100
TZNAME:BST
DTSTART:20210328T010000
END:DAYLIGHT
BEGIN:STANDARD
TZOFFSETFROM:+0100
TZOFFSETTO:+0000
TZNAME:GMT
DTSTART:20211031T010000
END:STANDARD
BEGIN:DAYLIGHT
TZOFFSETFROM:+0000
TZOFFSETTO:+0100
TZNAME:BST
DTSTART:20220327T010000
END:DAYLIGHT
BEGIN:STANDARD
TZOFFSETFROM:+0100
TZOFFSETTO:+0000
TZNAME:GMT
DTSTART:20221030T010000
END:STANDARD
BEGIN:DAYLIGHT
TZOFFSETFROM:+0000
TZOFFSETTO:+0100
TZNAME:BST
DTSTART:20230326T010000
END:DAYLIGHT
BEGIN:STANDARD
TZOFFSETFROM:+0100
TZOFFSETTO:+0000
TZNAME:GMT
DTSTART:20231029T010000
END:STANDARD
END:VTIMEZONE
BEGIN:VEVENT
DTSTART;TZID=Europe/London:20220911T154500
DTEND;TZID=Europe/London:20220911T173000
DTSTAMP:20260420T003743
CREATED:20220816T214609Z
LAST-MODIFIED:20221105T225856Z
UID:1369-1662911100-1662917400@ecstaticdancelondon.com
SUMMARY:Sunday Sound Sanctuary - Sound Journey & Gong Bath with Guided Relaxation
DESCRIPTION:A Gorgeous Sound Journey & Gong Bath with Guided Relaxation held in a Beautiful Space! Ambient Crystal Singing bowls\, Voice\, Handpan\, Gongs and much more! \n\nAbout this event\n\n\n\n\n\nSUNDAY SOUND SANCTUARY – Sound Journey & Gong Bath with Guided Relaxation on Sundays\, 3:45PM – 5:30PM\n\n\n\n\n\n\nWe hope you can join us for this unique and heart-opening experience on a Sunday afternoon. \nWe’re providing Londoners with a kind of sanctuary space to deeply relax\, be themselves\, release stress\, and connect with their body. \nThe Sunday Sound Sanctuary is simply an opportunity to let go and relax with a guided meditation while basking in Cosmic\, Ethereal Vocals and Electronic Soundscapes\, Crystal Singing Bowls\, Gongs\, Handpan and much much more! \nBOOK HERE: https://www.eventbrite.co.uk/e/sunday-sound-sanctuary-sound-journey-gong-bath-with-guided-relaxation-tickets-403472014657\nAs everything is vibrating so are we\, sometimes we can become out of tune in either mind body or spirit and dis-ease can start to take hold. Through the frequencies of sound therapy our bodies can be brought back in tune and we can begin to feel healthy and balanced once more. \nThe deep complex harmonics of multiple instruments quickly silence the mind and resonate through your body melting away boundaries between being awake and being asleep\, between inside and outside. \nMeditate and relax into the deepest conscious rest\, cleansing\, releasing\, healing and harmonizing on all levels. \nA beautiful way to spend a Sunday afternoon! A Unique Experience! \nNow is always the perfect time to journey inward… \n\n\n\n\n\nUPCOMING DATES:\n\n27 November\n18 December\n\n💜SEE ALL OUR UPCOMING WELLBEING EVENTS: ecstaticdancelondon.com/events \nSCHEDULE:\n◈ 3:35pm-4:45pm Arrival/ Check in (No entry after 4pm\, this is so we can create a safe and calm environment for all participants) \n◈ 3:45pm-5:30pm Guided Relaxation Meditation & Sound Journey with Live Music: for Rest\, Relaxation & Rejuvenation \n◈ 5:30pm Session ends. You’re welcome to stay for complimentary herbal teas downstairs in the parlour and maybe join us later for Ecstatic Dance & Cacao from 6pm-8:15pm\, more info and tickets here. \nWHAT YOU WILL NEED:\n1. Yoga mat\, cushion & blanket for extra comfort. Blindfolds will be provided however you are welcome to bring your own. \n2. Reusable water bottle. We will provide tap water & lemon water refill station. \nVENUE:\nSiobhan Davies Dance Studio\, 85 St George’s Rd\, London SE1 6ER \n-Nearest station is Elephant & Castle\, venue is also walking distance from Lambeth North and Waterloo. Please check tfl .gov for latest travel updates. \n-If you are driving\, please be aware that the venue is in an Ultra Low Emission Zone and you may be liable to pay the daily fee. Find parking on parkopedia. \n-There is a bicycle rack in the courtyard on the side of the building to lock your bike if you are cycling. \n-Venue is mostly accessible to wheelchair users with a lift to all floors. \n-Venue’s amenities include toilets\, changing room and showers. \nPRICES:\n\nLower waged/ Concession £15 + Eventbrite fee\nRegular £20 + Eventbrite fee\nAbundance £25 + Eventbrite fee\n\nEVENTBRITE ORDER CONFIRMATION: Email might be in the spam folder. Please check. Do not print any paper tickets\, we will check you in by your name. \nCANCELLATION POLICY:\nWe do not offer refunds/ticket swaps for another event if you cannot attend if less than 72h notice is provided. You are welcome to pass on your ticket to a friend\, colleague or family member however please let us know the date & time of the booked session\, name and email address of the person attending in your place Send us an email with replacement person’s details to: youareyoubeyou@gmail.com \nIf we need to cancel the event due to unforeseen circumstances\, we will issue a full refund. If you have any questions please feel free to send us an email: youareyoubeyou@gmail.com \nFACILITATORS/ MUSICIANS:\nSeth Newman: As a coach\, Seth is dedicated to helping people calm\, empower and rejuvenate their busy minds and bodies to achieve the best versions of themselves. Seth brings a wealth of experience holding heart-centered spaces. \nAs a musician\, Seth is very passionate about rhythm & drumming\, has an MA in Community Music from Goldsmith College\, worked as a world music percussion teacher in East London schools for almost 20 years and started URUBU collective back in 2009 as a Live Music Ecstatic Dance experience with Afro-Brazilian drummers & musicians. \nSeth has been running various body-mind integration classes and workshops for many years. His inspiration comes from many sources including Humanistic & Body Psychotherapy\, the Human Potential Movement\, 5 Rhythms\, Tantra and Active meditations. \n\n\n\n\n\nDiana Upite: Trained in classical music from a young age\, and later in contemporary music\, Diana carries a life-long passion for singing\, improvising and re-imagining traditional Celtic and folk songs with her own melodic vision.  A singer at heart\, she connects deeply with the melodies and harmonies of ancient Europe and beyond. \nDiana is passionate about bringing practices of rest and embodiment to others. Through her singing\, her intention is to guide you on a journey of reconnection and self-discovery\, reuniting you with the source of who you are. \nDiana also has a keen interest in making delicious raw chocolates and raw cacao drinks for cacao ceremonies\, private clients and is constantly experimenting with new flavours. She is a co-creator of many URUBU wellbeing classes\, workshops\, retreats and festivals. \n\n\n\n\n\nCONNECT WITH US:\n\nINSTAGRAM: @urubu_school_of_transformation\, @ecstaticdance_london\n\nFACEBOOK: Ecstatic Dance London\, URUBU\, Ecstatic Dance Temple\, Ecstatic Dance Festivals\n\nFACEBOOK GROUPS: URUBU - Ecstatic Dance London\, Ecstatic Dance London\n\nMEETUP: Urubu's Ecstatic Dance & Moving Meditation Community\, Ecstatic Dance Temple\n\nYOUTUBE: URUBU School of Transformational Arts\n\nWEBSITE: ecstaticdancelondon.com\n\nEMAIL: youareyoubeyou@gmail.com\n\nURUBU - YOU ARE YOU\, BE YOU!
URL:https://ecstaticdancelondon.com/event/sunday-sound-sanctuary-sound-journey-gong-bath-with-guided-relaxation-4/2022-09-11/
LOCATION:Siobhan Davies Studios (Roof Studio)\, 85 Saint George's Road\, London\, England\, SE1 6ER\, United Kingdom
ATTACH;FMTTYPE=image/jpeg:https://ecstaticdancelondon.com/wp-content/uploads/2022/08/73bd718f8f79997657f518722444afd4.jpg
END:VEVENT
END:VCALENDAR