BEGIN:VCALENDAR
VERSION:2.0
PRODID:-//Ecstatic Dance London - ECPv6.15.20//NONSGML v1.0//EN
CALSCALE:GREGORIAN
METHOD:PUBLISH
X-WR-CALNAME:Ecstatic Dance London
X-ORIGINAL-URL:https://ecstaticdancelondon.com
X-WR-CALDESC:Events for Ecstatic Dance London
REFRESH-INTERVAL;VALUE=DURATION:PT1H
X-Robots-Tag:noindex
X-PUBLISHED-TTL:PT1H
BEGIN:VTIMEZONE
TZID:Europe/London
BEGIN:DAYLIGHT
TZOFFSETFROM:+0000
TZOFFSETTO:+0100
TZNAME:BST
DTSTART:20210328T010000
END:DAYLIGHT
BEGIN:STANDARD
TZOFFSETFROM:+0100
TZOFFSETTO:+0000
TZNAME:GMT
DTSTART:20211031T010000
END:STANDARD
BEGIN:DAYLIGHT
TZOFFSETFROM:+0000
TZOFFSETTO:+0100
TZNAME:BST
DTSTART:20220327T010000
END:DAYLIGHT
BEGIN:STANDARD
TZOFFSETFROM:+0100
TZOFFSETTO:+0000
TZNAME:GMT
DTSTART:20221030T010000
END:STANDARD
BEGIN:DAYLIGHT
TZOFFSETFROM:+0000
TZOFFSETTO:+0100
TZNAME:BST
DTSTART:20230326T010000
END:DAYLIGHT
BEGIN:STANDARD
TZOFFSETFROM:+0100
TZOFFSETTO:+0000
TZNAME:GMT
DTSTART:20231029T010000
END:STANDARD
END:VTIMEZONE
BEGIN:VEVENT
DTSTART;TZID=Europe/London:20220517T191500
DTEND;TZID=Europe/London:20220517T203000
DTSTAMP:20260421T235650
CREATED:20220427T133050Z
LAST-MODIFIED:20220427T133050Z
UID:998-1652814900-1652819400@ecstaticdancelondon.com
SUMMARY:Aerial Relaxation Pods - Sound Journey Gong Bath Meditation in Hammocks
DESCRIPTION:London’s first multi-sensory aerial relaxation experience with live ambient music\, aromatherapy and aerial hammocks. Oasis of Calm.
URL:https://ecstaticdancelondon.com/event/aerial-relaxation-pods-sound-journey-gong-bath-meditation-in-hammocks-17/
LOCATION:The Skylight Centre\, 49 Corsica Street\, (please arrive only 5 min before the start of the session as there is no waiting room\, thanks)\, London\, N5 1JT\, United Kingdom
ATTACH;FMTTYPE=image/jpeg:https://ecstaticdancelondon.com/wp-content/uploads/2021/10/b82719d14a059ee92736beefc05ebba9.jpg
END:VEVENT
BEGIN:VEVENT
DTSTART;TZID=Europe/London:20220512T204500
DTEND;TZID=Europe/London:20220512T220000
DTSTAMP:20260421T235650
CREATED:20220329T225925Z
LAST-MODIFIED:20220427T132649Z
UID:940-1652388300-1652392800@ecstaticdancelondon.com
SUMMARY:Aerial Relaxation Pods - Sound Journey Gong Bath Meditation in Hammocks
DESCRIPTION:London’s first multi-sensory aerial relaxation experience with live ambient music\, aromatherapy and aerial hammocks. Oasis of Calm.
URL:https://ecstaticdancelondon.com/event/aerial-relaxation-pods-sound-journey-gong-bath-meditation-in-hammocks-7/
LOCATION:The Skylight Centre\, 49 Corsica Street\, (please arrive only 5 min before the start of the session as there is no waiting room\, thanks)\, London\, N5 1JT\, United Kingdom
ATTACH;FMTTYPE=image/jpeg:https://ecstaticdancelondon.com/wp-content/uploads/2021/10/b82719d14a059ee92736beefc05ebba9.jpg
END:VEVENT
BEGIN:VEVENT
DTSTART;TZID=Europe/London:20220512T191500
DTEND;TZID=Europe/London:20220512T203000
DTSTAMP:20260421T235650
CREATED:20220329T225920Z
LAST-MODIFIED:20220427T132649Z
UID:939-1652382900-1652387400@ecstaticdancelondon.com
SUMMARY:Aerial Relaxation Pods - Sound Journey Gong Bath Meditation in Hammocks
DESCRIPTION:London’s first multi-sensory aerial relaxation experience with live ambient music\, aromatherapy and aerial hammocks. Oasis of Calm.
URL:https://ecstaticdancelondon.com/event/aerial-relaxation-pods-sound-journey-gong-bath-meditation-in-hammocks-2/
LOCATION:The Skylight Centre\, 49 Corsica Street\, (please arrive only 5 min before the start of the session as there is no waiting room\, thanks)\, London\, N5 1JT\, United Kingdom
ATTACH;FMTTYPE=image/jpeg:https://ecstaticdancelondon.com/wp-content/uploads/2021/10/b82719d14a059ee92736beefc05ebba9.jpg
END:VEVENT
BEGIN:VEVENT
DTSTART;TZID=Europe/London:20220510T191500
DTEND;TZID=Europe/London:20220510T203000
DTSTAMP:20260421T235650
CREATED:20220427T133046Z
LAST-MODIFIED:20220427T133046Z
UID:997-1652210100-1652214600@ecstaticdancelondon.com
SUMMARY:Aerial Relaxation Pods - Sound Journey Gong Bath Meditation in Hammocks
DESCRIPTION:London’s first multi-sensory aerial relaxation experience with live ambient music\, aromatherapy and aerial hammocks. Oasis of Calm.
URL:https://ecstaticdancelondon.com/event/aerial-relaxation-pods-sound-journey-gong-bath-meditation-in-hammocks-16/
LOCATION:The Skylight Centre\, 49 Corsica Street\, (please arrive only 5 min before the start of the session as there is no waiting room\, thanks)\, London\, N5 1JT\, United Kingdom
ATTACH;FMTTYPE=image/jpeg:https://ecstaticdancelondon.com/wp-content/uploads/2021/10/b82719d14a059ee92736beefc05ebba9.jpg
END:VEVENT
BEGIN:VEVENT
DTSTART;TZID=Europe/London:20220505T204500
DTEND;TZID=Europe/London:20220505T220000
DTSTAMP:20260421T235650
CREATED:20220413T181405Z
LAST-MODIFIED:20220427T132648Z
UID:972-1651783500-1651788000@ecstaticdancelondon.com
SUMMARY:Aerial Relaxation Pods - Sound Journey Gong Bath Meditation in Hammocks
DESCRIPTION:London’s first multi-sensory aerial relaxation experience with live ambient music\, aromatherapy and aerial hammocks. Oasis of Calm.
URL:https://ecstaticdancelondon.com/event/aerial-relaxation-pods-sound-journey-gong-bath-meditation-in-hammocks-15/
LOCATION:The Skylight Centre\, 49 Corsica Street\, (please arrive only 5 min before the start of the session as there is no waiting room\, thanks)\, London\, N5 1JT\, United Kingdom
ATTACH;FMTTYPE=image/jpeg:https://ecstaticdancelondon.com/wp-content/uploads/2021/10/b82719d14a059ee92736beefc05ebba9.jpg
END:VEVENT
BEGIN:VEVENT
DTSTART;TZID=Europe/London:20220505T191500
DTEND;TZID=Europe/London:20220505T203000
DTSTAMP:20260421T235650
CREATED:20220413T181404Z
LAST-MODIFIED:20220427T132648Z
UID:971-1651778100-1651782600@ecstaticdancelondon.com
SUMMARY:Aerial Relaxation Pods - Sound Journey Gong Bath Meditation in Hammocks
DESCRIPTION:London’s first multi-sensory aerial relaxation experience with live ambient music\, aromatherapy and aerial hammocks. Oasis of Calm.
URL:https://ecstaticdancelondon.com/event/aerial-relaxation-pods-sound-journey-gong-bath-meditation-in-hammocks-14/
LOCATION:The Skylight Centre\, 49 Corsica Street\, (please arrive only 5 min before the start of the session as there is no waiting room\, thanks)\, London\, N5 1JT\, United Kingdom
ATTACH;FMTTYPE=image/jpeg:https://ecstaticdancelondon.com/wp-content/uploads/2021/10/b82719d14a059ee92736beefc05ebba9.jpg
END:VEVENT
BEGIN:VEVENT
DTSTART;TZID=Europe/London:20220503T191500
DTEND;TZID=Europe/London:20220503T203000
DTSTAMP:20260421T235650
CREATED:20220413T181403Z
LAST-MODIFIED:20220427T132648Z
UID:970-1651605300-1651609800@ecstaticdancelondon.com
SUMMARY:Aerial Relaxation Pods - Sound Journey Gong Bath Meditation in Hammocks
DESCRIPTION:London’s first multi-sensory aerial relaxation experience with live ambient music\, aromatherapy and aerial hammocks. Oasis of Calm.
URL:https://ecstaticdancelondon.com/event/aerial-relaxation-pods-sound-journey-gong-bath-meditation-in-hammocks-13/
LOCATION:The Skylight Centre\, 49 Corsica Street\, (please arrive only 5 min before the start of the session as there is no waiting room\, thanks)\, London\, N5 1JT\, United Kingdom
ATTACH;FMTTYPE=image/jpeg:https://ecstaticdancelondon.com/wp-content/uploads/2021/10/b82719d14a059ee92736beefc05ebba9.jpg
END:VEVENT
BEGIN:VEVENT
DTSTART;TZID=Europe/London:20220428T204500
DTEND;TZID=Europe/London:20220428T220000
DTSTAMP:20260421T235650
CREATED:20220311T213845Z
LAST-MODIFIED:20220427T132648Z
UID:866-1651178700-1651183200@ecstaticdancelondon.com
SUMMARY:Aerial Relaxation Pods - Sound Journey Gong Bath Meditation in Hammocks
DESCRIPTION:London’s first multi-sensory aerial relaxation experience with live ambient music\, aromatherapy and aerial hammocks. Oasis of Calm.
URL:https://ecstaticdancelondon.com/event/aerial-relaxation-pods-sound-journey-gong-bath-meditation-in-hammocks-10/
LOCATION:The Skylight Centre\, 49 Corsica Street\, (please arrive only 5 min before the start of the session as there is no waiting room\, thanks)\, London\, N5 1JT\, United Kingdom
ATTACH;FMTTYPE=image/jpeg:https://ecstaticdancelondon.com/wp-content/uploads/2021/10/b82719d14a059ee92736beefc05ebba9.jpg
END:VEVENT
BEGIN:VEVENT
DTSTART;TZID=Europe/London:20220428T191500
DTEND;TZID=Europe/London:20220428T203000
DTSTAMP:20260421T235650
CREATED:20220311T213843Z
LAST-MODIFIED:20220427T132648Z
UID:865-1651173300-1651177800@ecstaticdancelondon.com
SUMMARY:Aerial Relaxation Pods - Sound Journey Gong Bath Meditation in Hammocks
DESCRIPTION:London’s first multi-sensory aerial relaxation experience with live ambient music\, aromatherapy and aerial hammocks. Oasis of Calm.
URL:https://ecstaticdancelondon.com/event/aerial-relaxation-pods-sound-journey-gong-bath-meditation-in-hammocks-9/
LOCATION:The Skylight Centre\, 49 Corsica Street\, (please arrive only 5 min before the start of the session as there is no waiting room\, thanks)\, London\, N5 1JT\, United Kingdom
ATTACH;FMTTYPE=image/jpeg:https://ecstaticdancelondon.com/wp-content/uploads/2021/10/b82719d14a059ee92736beefc05ebba9.jpg
END:VEVENT
BEGIN:VEVENT
DTSTART;TZID=Europe/London:20220426T191500
DTEND;TZID=Europe/London:20220426T203000
DTSTAMP:20260421T235650
CREATED:20220413T181402Z
LAST-MODIFIED:20220413T181402Z
UID:969-1651000500-1651005000@ecstaticdancelondon.com
SUMMARY:Aerial Relaxation Pods - Sound Journey Gong Bath Meditation in Hammocks
DESCRIPTION:London’s first multi-sensory aerial relaxation experience with live ambient music\, aromatherapy and aerial hammocks. Oasis of Calm.
URL:https://ecstaticdancelondon.com/event/aerial-relaxation-pods-sound-journey-gong-bath-meditation-in-hammocks-12/
LOCATION:The Skylight Centre\, 49 Corsica Street\, (please arrive only 5 min before the start of the session as there is no waiting room\, thanks)\, London\, N5 1JT\, United Kingdom
ATTACH;FMTTYPE=image/jpeg:https://ecstaticdancelondon.com/wp-content/uploads/2021/10/b82719d14a059ee92736beefc05ebba9.jpg
END:VEVENT
BEGIN:VEVENT
DTSTART;TZID=Europe/London:20220407T204500
DTEND;TZID=Europe/London:20220407T220000
DTSTAMP:20260421T235650
CREATED:20220311T213837Z
LAST-MODIFIED:20220311T213854Z
UID:862-1649364300-1649368800@ecstaticdancelondon.com
SUMMARY:Aerial Relaxation Pods - Sound Journey Gong Bath Meditation in Hammocks
DESCRIPTION:London’s first multi-sensory aerial relaxation experience with live ambient music\, aromatherapy and aerial hammocks. Oasis of Calm.
URL:https://ecstaticdancelondon.com/event/aerial-relaxation-pods-sound-journey-gong-bath-meditation-in-hammocks-6/
LOCATION:The Skylight Centre\, 49 Corsica Street\, (please arrive only 5 min before the start of the session as there is no waiting room\, thanks)\, London\, N5 1JT\, United Kingdom
ATTACH;FMTTYPE=image/jpeg:https://ecstaticdancelondon.com/wp-content/uploads/2021/10/b82719d14a059ee92736beefc05ebba9.jpg
END:VEVENT
BEGIN:VEVENT
DTSTART;TZID=Europe/London:20220407T191500
DTEND;TZID=Europe/London:20220407T203000
DTSTAMP:20260421T235650
CREATED:20220311T213834Z
LAST-MODIFIED:20220311T213851Z
UID:861-1649358900-1649363400@ecstaticdancelondon.com
SUMMARY:Aerial Relaxation Pods - Sound Journey Gong Bath Meditation in Hammocks
DESCRIPTION:London’s first multi-sensory aerial relaxation experience with live ambient music\, aromatherapy and aerial hammocks. Oasis of Calm.
URL:https://ecstaticdancelondon.com/event/aerial-relaxation-pods-sound-journey-gong-bath-meditation-in-hammocks-5/
LOCATION:The Skylight Centre\, 49 Corsica Street\, (please arrive only 5 min before the start of the session as there is no waiting room\, thanks)\, London\, N5 1JT\, United Kingdom
ATTACH;FMTTYPE=image/jpeg:https://ecstaticdancelondon.com/wp-content/uploads/2021/10/b82719d14a059ee92736beefc05ebba9.jpg
END:VEVENT
BEGIN:VEVENT
DTSTART;TZID=Europe/London:20220331T204500
DTEND;TZID=Europe/London:20220331T220000
DTSTAMP:20260421T235650
CREATED:20220311T213004Z
LAST-MODIFIED:20220311T213637Z
UID:843-1648759500-1648764000@ecstaticdancelondon.com
SUMMARY:Aerial Relaxation Pods - Sound Journey Gong Bath Meditation in Hammocks
DESCRIPTION:London’s first multi-sensory aerial relaxation experience with live ambient music\, aromatherapy and aerial hammocks. Oasis of Calm.
URL:https://ecstaticdancelondon.com/event/aerial-relaxation-pods-sound-journey-gong-bath-meditation-in-hammocks-4/
LOCATION:The Skylight Centre\, 49 Corsica Street\, (please arrive only 5 min before the start of the session as there is no waiting room\, thanks)\, London\, N5 1JT\, United Kingdom
ATTACH;FMTTYPE=image/jpeg:https://ecstaticdancelondon.com/wp-content/uploads/2021/10/b82719d14a059ee92736beefc05ebba9.jpg
END:VEVENT
BEGIN:VEVENT
DTSTART;TZID=Europe/London:20220331T191500
DTEND;TZID=Europe/London:20220331T203000
DTSTAMP:20260421T235650
CREATED:20220128T201730Z
LAST-MODIFIED:20220311T213637Z
UID:677-1648754100-1648758600@ecstaticdancelondon.com
SUMMARY:Aerial Relaxation Pods - Sound Journey Gong Bath Meditation in Hammocks
DESCRIPTION:London’s first multi-sensory aerial relaxation experience with live ambient music\, aromatherapy and aerial hammocks. Oasis of Calm.
URL:https://ecstaticdancelondon.com/event/7-15pm-8-30pm-aerial-relaxation-pods-sound-journey-meditation-in-hammocks-11/
LOCATION:The Skylight Centre\, 49 Corsica Street\, (please arrive only 5 min before the start of the session as there is no waiting room\, thanks)\, London\, N5 1JT\, United Kingdom
ATTACH;FMTTYPE=image/jpeg:https://ecstaticdancelondon.com/wp-content/uploads/2021/10/b82719d14a059ee92736beefc05ebba9.jpg
END:VEVENT
BEGIN:VEVENT
DTSTART;TZID=Europe/London:20220329T193000
DTEND;TZID=Europe/London:20220329T210000
DTSTAMP:20260421T235650
CREATED:20220316T212436Z
LAST-MODIFIED:20220316T212446Z
UID:893-1648582200-1648587600@ecstaticdancelondon.com
SUMMARY:7.30pm-9pm Aerial Relaxation Pods -Yoga Nidra &Sound Meditation in Hammocks
DESCRIPTION:Our new Tuesday night aerial relaxation & yoga nidra experience with live ambient music\, aromatherapy\, and aerial hammocks. Oasis of Calm.
URL:https://ecstaticdancelondon.com/event/7-30pm-9pm-aerial-relaxation-pods-yoga-nidra-sound-meditation-in-hammocks-2/
LOCATION:The Skylight Centre\, 49 Corsica Street\, (please arrive only 5 min before the start of the session as there is no waiting room\, thanks)\, London\, N5 1JT\, United Kingdom
ATTACH;FMTTYPE=image/jpeg:https://ecstaticdancelondon.com/wp-content/uploads/2022/01/800755cf655aa7cf01d7c280134a8269.jpg
END:VEVENT
BEGIN:VEVENT
DTSTART;TZID=Europe/London:20220324T204500
DTEND;TZID=Europe/London:20220324T220000
DTSTAMP:20260421T235650
CREATED:20220308T141224Z
LAST-MODIFIED:20220311T213637Z
UID:818-1648154700-1648159200@ecstaticdancelondon.com
SUMMARY:Aerial Relaxation Pods - Sound Journey Gong Bath Meditation in Hammocks
DESCRIPTION:London’s first multi-sensory aerial relaxation experience with live ambient music\, aromatherapy and aerial hammocks. Oasis of Calm.
URL:https://ecstaticdancelondon.com/event/aerial-relaxation-pods-sound-journey-gong-bath-meditation-in-hammocks-3/
LOCATION:The Skylight Centre\, 49 Corsica Street\, (please arrive only 5 min before the start of the session as there is no waiting room\, thanks)\, London\, N5 1JT\, United Kingdom
ATTACH;FMTTYPE=image/jpeg:https://ecstaticdancelondon.com/wp-content/uploads/2021/10/b82719d14a059ee92736beefc05ebba9.jpg
END:VEVENT
BEGIN:VEVENT
DTSTART;TZID=Europe/London:20220324T191500
DTEND;TZID=Europe/London:20220324T203000
DTSTAMP:20260421T235650
CREATED:20220128T201728Z
LAST-MODIFIED:20220311T213637Z
UID:676-1648149300-1648153800@ecstaticdancelondon.com
SUMMARY:Aerial Relaxation Pods - Sound Journey Gong Bath Meditation in Hammocks
DESCRIPTION:London’s first multi-sensory aerial relaxation experience with live ambient music\, aromatherapy and aerial hammocks. Oasis of Calm.
URL:https://ecstaticdancelondon.com/event/7-15pm-8-30pm-aerial-relaxation-pods-sound-journey-meditation-in-hammocks-10/
LOCATION:The Skylight Centre\, 49 Corsica Street\, (please arrive only 5 min before the start of the session as there is no waiting room\, thanks)\, London\, N5 1JT\, United Kingdom
ATTACH;FMTTYPE=image/jpeg:https://ecstaticdancelondon.com/wp-content/uploads/2021/10/b82719d14a059ee92736beefc05ebba9.jpg
END:VEVENT
BEGIN:VEVENT
DTSTART;TZID=Europe/London:20220317T191500
DTEND;TZID=Europe/London:20220317T220000
DTSTAMP:20260421T235650
CREATED:20220128T235054Z
LAST-MODIFIED:20220316T211906Z
UID:718-1647544500-1647554400@ecstaticdancelondon.com
SUMMARY:System Reset - Bioenergetics\, Guided Meditation and Aerial Relaxation Pods
DESCRIPTION:Transformational session combining 3-powerful methods. Tap into exceptional states of wellbeing! A Deep System Reset Experience.
URL:https://ecstaticdancelondon.com/event/system-reset-bioenergetics-guided-meditation-and-aerial-relaxation-pods-3/
LOCATION:Skylight Centre\, 49 Corsica Street\, London\, England\, N5 1JT\, United Kingdom
ATTACH;FMTTYPE=image/jpeg:https://ecstaticdancelondon.com/wp-content/uploads/2021/10/5c95427eda51a215b873d770cc9b6b46.jpg
END:VEVENT
BEGIN:VEVENT
DTSTART;TZID=Europe/London:20220310T204500
DTEND;TZID=Europe/London:20220310T220000
DTSTAMP:20260421T235650
CREATED:20220308T141222Z
LAST-MODIFIED:20220308T141222Z
UID:815-1646945100-1646949600@ecstaticdancelondon.com
SUMMARY:Aerial Relaxation Pods - Sound Journey Gong Bath Meditation in Hammocks
DESCRIPTION:London’s first multi-sensory aerial relaxation experience with live ambient music\, aromatherapy and aerial hammocks. Oasis of Calm.
URL:https://ecstaticdancelondon.com/event/aerial-relaxation-pods-sound-journey-gong-bath-meditation-in-hammocks/
LOCATION:The Skylight Centre\, 49 Corsica Street\, (please arrive only 5 min before the start of the session as there is no waiting room\, thanks)\, London\, N5 1JT\, United Kingdom
ATTACH;FMTTYPE=image/jpeg:https://ecstaticdancelondon.com/wp-content/uploads/2021/10/b82719d14a059ee92736beefc05ebba9.jpg
END:VEVENT
BEGIN:VEVENT
DTSTART;TZID=Europe/London:20220310T191500
DTEND;TZID=Europe/London:20220310T203000
DTSTAMP:20260421T235650
CREATED:20220204T125425Z
LAST-MODIFIED:20220308T141051Z
UID:727-1646939700-1646944200@ecstaticdancelondon.com
SUMMARY:Aerial Relaxation Pods - Sound Journey Gong Bath Meditation in Hammocks
DESCRIPTION:London’s first multi-sensory aerial relaxation experience with live ambient music\, aromatherapy and aerial hammocks. Oasis of Calm.
URL:https://ecstaticdancelondon.com/event/7-15pm-8-30pm-aerial-relaxation-pods-sound-journey-meditation-in-hammocks-12/
LOCATION:The Skylight Centre\, 49 Corsica Street\, (please arrive only 5 min before the start of the session as there is no waiting room\, thanks)\, London\, N5 1JT\, United Kingdom
ATTACH;FMTTYPE=image/jpeg:https://ecstaticdancelondon.com/wp-content/uploads/2021/10/b82719d14a059ee92736beefc05ebba9.jpg
END:VEVENT
BEGIN:VEVENT
DTSTART;TZID=Europe/London:20220308T193000
DTEND;TZID=Europe/London:20220308T210000
DTSTAMP:20260421T235650
CREATED:20220223T192752Z
LAST-MODIFIED:20220223T192752Z
UID:785-1646767800-1646773200@ecstaticdancelondon.com
SUMMARY:7.30pm-9pm Aerial Relaxation Pods -Yoga Nidra &Sound Meditation in Hammocks
DESCRIPTION:Our new Tuesday night aerial relaxation & yoga nidra experience with live ambient music\, aromatherapy\, and aerial hammocks. Oasis of Calm.
URL:https://ecstaticdancelondon.com/event/7-30pm-9pm-aerial-relaxation-pods-yoga-nidra-sound-meditation-in-hammocks/
LOCATION:The Skylight Centre\, 49 Corsica Street\, (please arrive only 5 min before the start of the session as there is no waiting room\, thanks)\, London\, N5 1JT\, United Kingdom
ATTACH;FMTTYPE=image/jpeg:https://ecstaticdancelondon.com/wp-content/uploads/2022/01/800755cf655aa7cf01d7c280134a8269.jpg
END:VEVENT
BEGIN:VEVENT
DTSTART;TZID=Europe/London:20220303T204500
DTEND;TZID=Europe/London:20220303T220000
DTSTAMP:20260421T235650
CREATED:20220128T201731Z
LAST-MODIFIED:20220204T125846Z
UID:679-1646340300-1646344800@ecstaticdancelondon.com
SUMMARY:8.45pm -10pm  Aerial Relaxation Pods - Sound Journey Meditation in Hammocks
DESCRIPTION:London’s first multi-sensory aerial relaxation experience with live ambient music\, aromatherapy and aerial hammocks. Oasis of Calm.
URL:https://ecstaticdancelondon.com/event/8-45pm-10pm-aerial-relaxation-pods-sound-journey-meditation-in-hammocks-10/
LOCATION:The Skylight Centre\, 49 Corsica Street\, (please arrive only 5 min before the start of the session as there is no waiting room\, thanks)\, London\, N5 1JT\, United Kingdom
ATTACH;FMTTYPE=image/jpeg:https://ecstaticdancelondon.com/wp-content/uploads/2021/10/38bea29b9879dd0206efdf8b572501f9.jpg
END:VEVENT
BEGIN:VEVENT
DTSTART;TZID=Europe/London:20220224T204500
DTEND;TZID=Europe/London:20220224T220000
DTSTAMP:20260421T235650
CREATED:20211211T164904Z
LAST-MODIFIED:20220204T125846Z
UID:583-1645735500-1645740000@ecstaticdancelondon.com
SUMMARY:8.45pm -10pm  Aerial Relaxation Pods - Sound Journey Meditation in Hammocks
DESCRIPTION:London’s first multi-sensory aerial relaxation experience with live ambient music\, aromatherapy and aerial hammocks. Oasis of Calm.
URL:https://ecstaticdancelondon.com/event/8-45pm-10pm-aerial-relaxation-pods-sound-journey-meditation-in-hammocks-9/
LOCATION:The Skylight Centre\, 49 Corsica Street\, (please arrive only 5 min before the start of the session as there is no waiting room\, thanks)\, London\, N5 1JT\, United Kingdom
ATTACH;FMTTYPE=image/jpeg:https://ecstaticdancelondon.com/wp-content/uploads/2021/10/38bea29b9879dd0206efdf8b572501f9.jpg
END:VEVENT
BEGIN:VEVENT
DTSTART;TZID=Europe/London:20220224T191500
DTEND;TZID=Europe/London:20220224T203000
DTSTAMP:20260421T235650
CREATED:20211211T164855Z
LAST-MODIFIED:20220204T125141Z
UID:577-1645730100-1645734600@ecstaticdancelondon.com
SUMMARY:7.15pm-8.30pm Aerial Relaxation Pods - Sound Journey Meditation in Hammocks
DESCRIPTION:London’s first multi-sensory aerial relaxation experience with live ambient music\, aromatherapy and aerial hammocks. Oasis of Calm.
URL:https://ecstaticdancelondon.com/event/7-15pm-8-30pm-aerial-relaxation-pods-sound-journey-meditation-in-hammocks-9/
LOCATION:The Skylight Centre\, 49 Corsica Street\, (please arrive only 5 min before the start of the session as there is no waiting room\, thanks)\, London\, N5 1JT\, United Kingdom
ATTACH;FMTTYPE=image/jpeg:https://ecstaticdancelondon.com/wp-content/uploads/2021/10/b82719d14a059ee92736beefc05ebba9.jpg
END:VEVENT
BEGIN:VEVENT
DTSTART;TZID=Europe/London:20220222T193000
DTEND;TZID=Europe/London:20220222T210000
DTSTAMP:20260421T235650
CREATED:20220128T231100Z
LAST-MODIFIED:20220128T231100Z
UID:700-1645558200-1645563600@ecstaticdancelondon.com
SUMMARY:7.30pm-9pm Aerial Relaxation Pods - Yoga Nidra Meditation in Hammocks
DESCRIPTION:Our new Tuesday night aerial relaxation & yoga nidra experience with live ambient music\, aromatherapy\, and aerial hammocks. Oasis of Calm.
URL:https://ecstaticdancelondon.com/event/7-30pm-9pm-aerial-relaxation-pods-yoga-nidra-meditation-in-hammocks-2/
LOCATION:The Skylight Centre\, 49 Corsica Street\, (please arrive only 5 min before the start of the session as there is no waiting room\, thanks)\, London\, N5 1JT\, United Kingdom
ATTACH;FMTTYPE=image/jpeg:https://ecstaticdancelondon.com/wp-content/uploads/2022/01/800755cf655aa7cf01d7c280134a8269.jpg
END:VEVENT
BEGIN:VEVENT
DTSTART;TZID=Europe/London:20220217T191500
DTEND;TZID=Europe/London:20220217T220000
DTSTAMP:20260421T235650
CREATED:20220114T122559Z
LAST-MODIFIED:20220128T234857Z
UID:653-1645125300-1645135200@ecstaticdancelondon.com
SUMMARY:System Reset - Bioenergetics\, Guided Meditation and Aerial Relaxation Pods
DESCRIPTION:Transformational session combining 3-powerful methods. Tap into exceptional states of wellbeing! A Deep System Reset Experience.
URL:https://ecstaticdancelondon.com/event/system-reset-bioenergetics-guided-meditation-and-aerial-relaxation-pods-2/
LOCATION:Skylight Centre\, 49 Corsica Street\, London\, England\, N5 1JT\, United Kingdom
ATTACH;FMTTYPE=image/jpeg:https://ecstaticdancelondon.com/wp-content/uploads/2021/10/5c95427eda51a215b873d770cc9b6b46.jpg
END:VEVENT
BEGIN:VEVENT
DTSTART;TZID=Europe/London:20220210T204500
DTEND;TZID=Europe/London:20220210T220000
DTSTAMP:20260421T235650
CREATED:20220210T204500Z
LAST-MODIFIED:20220204T125846Z
UID:582-1644525900-1644530400@ecstaticdancelondon.com
SUMMARY:8.45pm -10pm  Aerial Relaxation Pods - Sound Journey Meditation in Hammocks
DESCRIPTION:London’s first multi-sensory aerial relaxation experience with live ambient music\, aromatherapy and aerial hammocks. Oasis of Calm.
URL:https://ecstaticdancelondon.com/event/8-45pm-10pm-aerial-relaxation-pods-sound-journey-meditation-in-hammocks-8/
LOCATION:The Skylight Centre\, 49 Corsica Street\, (please arrive only 5 min before the start of the session as there is no waiting room\, thanks)\, London\, N5 1JT\, United Kingdom
ATTACH;FMTTYPE=image/jpeg:https://ecstaticdancelondon.com/wp-content/uploads/2021/10/38bea29b9879dd0206efdf8b572501f9.jpg
END:VEVENT
BEGIN:VEVENT
DTSTART;TZID=Europe/London:20220210T191500
DTEND;TZID=Europe/London:20220210T203000
DTSTAMP:20260421T235650
CREATED:20220210T191500Z
LAST-MODIFIED:20220204T125140Z
UID:576-1644520500-1644525000@ecstaticdancelondon.com
SUMMARY:7.15pm-8.30pm Aerial Relaxation Pods - Sound Journey Meditation in Hammocks
DESCRIPTION:London’s first multi-sensory aerial relaxation experience with live ambient music\, aromatherapy and aerial hammocks. Oasis of Calm.
URL:https://ecstaticdancelondon.com/event/7-15pm-8-30pm-aerial-relaxation-pods-sound-journey-meditation-in-hammocks-8/
LOCATION:The Skylight Centre\, 49 Corsica Street\, (please arrive only 5 min before the start of the session as there is no waiting room\, thanks)\, London\, N5 1JT\, United Kingdom
ATTACH;FMTTYPE=image/jpeg:https://ecstaticdancelondon.com/wp-content/uploads/2021/10/b82719d14a059ee92736beefc05ebba9.jpg
END:VEVENT
BEGIN:VEVENT
DTSTART;TZID=Europe/London:20220208T193000
DTEND;TZID=Europe/London:20220208T210000
DTSTAMP:20260421T235650
CREATED:20220128T231059Z
LAST-MODIFIED:20220128T231059Z
UID:698-1644348600-1644354000@ecstaticdancelondon.com
SUMMARY:7.30pm-9pm Aerial Relaxation Pods - Yoga Nidra Meditation in Hammocks
DESCRIPTION:Our new Tuesday night aerial relaxation & yoga nidra experience with live ambient music\, aromatherapy\, and aerial hammocks. Oasis of Calm.
URL:https://ecstaticdancelondon.com/event/7-30pm-9pm-aerial-relaxation-pods-yoga-nidra-meditation-in-hammocks/
LOCATION:The Skylight Centre\, 49 Corsica Street\, (please arrive only 5 min before the start of the session as there is no waiting room\, thanks)\, London\, N5 1JT\, United Kingdom
ATTACH;FMTTYPE=image/jpeg:https://ecstaticdancelondon.com/wp-content/uploads/2022/01/800755cf655aa7cf01d7c280134a8269.jpg
END:VEVENT
BEGIN:VEVENT
DTSTART;TZID=Europe/London:20220203T204500
DTEND;TZID=Europe/London:20220203T220000
DTSTAMP:20260421T235650
CREATED:20211211T164900Z
LAST-MODIFIED:20220128T195032Z
UID:581-1643921100-1643925600@ecstaticdancelondon.com
SUMMARY:8.45pm -10pm  Aerial Relaxation Pods - Sound Journey Meditation in Hammocks
DESCRIPTION:London’s first multi-sensory aerial relaxation experience with live ambient music\, aromatherapy and aerial hammocks. Oasis of Calm.
URL:https://ecstaticdancelondon.com/event/8-45pm-10pm-aerial-relaxation-pods-sound-journey-meditation-in-hammocks-7/
LOCATION:The Skylight Centre\, 49 Corsica Street\, (please arrive only 5 min before the start of the session as there is no waiting room\, thanks)\, London\, N5 1JT\, United Kingdom
ATTACH;FMTTYPE=image/jpeg:https://ecstaticdancelondon.com/wp-content/uploads/2021/10/38bea29b9879dd0206efdf8b572501f9.jpg
END:VEVENT
END:VCALENDAR